BEGIN:VCALENDAR
VERSION:2.0
PRODID:Via Sacra na Igreja
X-WR-CALNAME:Via Sacra na Igreja
X-WR-TIMEZONE:Europe/Lisbon
X-PUBLISHED-TTL:P1W
BEGIN:VTIMEZONE
TZID:Europe/Lisbon
X-LIC-LOCATION:Europe/Lisbon
END:VTIMEZONE
BEGIN:VEVENT
UID:69ebd70291778
DTSTART;VALUE=DATE:20260401
SEQUENCE:0
TRANSP:OPAQUE
DTEND;VALUE=DATE:20260402
SUMMARY:Via Sacra na Igreja
CLASS:PUBLIC
DESCRIPTION:Via Sacra na Igreja
X-MICROSOFT-CDO-ALLDAYEVENT:TRUE
DTSTAMP:20260424T204802Z
END:VEVENT
END:VCALENDAR