BEGIN:VCALENDAR
VERSION:2.0
PRODID:Reunião Pública de Executivo 
X-WR-CALNAME:Reunião Pública de Executivo 
X-WR-TIMEZONE:Europe/Lisbon
X-PUBLISHED-TTL:P1W
BEGIN:VTIMEZONE
TZID:Europe/Lisbon
X-LIC-LOCATION:Europe/Lisbon
END:VTIMEZONE
BEGIN:VEVENT
UID:69ebd724cc13f
DTSTART;VALUE=DATE:20260302
SEQUENCE:0
TRANSP:OPAQUE
DTEND;VALUE=DATE:20260303
SUMMARY:Reunião Pública de Executivo 
CLASS:PUBLIC
DESCRIPTION:O executivo da Junta de Freguesia de Armação de Pêra convida
  a população para a Reunião Pública do Executivo (sessão ordinária)\
 , no dia 02 de março pelas 21h00 nas instalações da Junta de Freguesia 
 de Armação de Pêra.
X-MICROSOFT-CDO-ALLDAYEVENT:TRUE
DTSTAMP:20260424T204836Z
END:VEVENT
END:VCALENDAR