BEGIN:VCALENDAR
VERSION:2.0
PRODID:Caminhada pelo Autismo 
X-WR-CALNAME:Caminhada pelo Autismo 
X-WR-TIMEZONE:Europe/Lisbon
X-PUBLISHED-TTL:P1W
BEGIN:VTIMEZONE
TZID:Europe/Lisbon
X-LIC-LOCATION:Europe/Lisbon
END:VTIMEZONE
BEGIN:VEVENT
UID:69ebd724cbcd0
DTSTART;VALUE=DATE:20260402
SEQUENCE:0
TRANSP:OPAQUE
DTEND;VALUE=DATE:20260403
SUMMARY:Caminhada pelo Autismo 
CLASS:PUBLIC
DESCRIPTION:Caminhada pelo Autismo no Largo da Junta de Freguesia de Armaç
 ão de Pêra
X-MICROSOFT-CDO-ALLDAYEVENT:TRUE
DTSTAMP:20260424T204836Z
END:VEVENT
END:VCALENDAR