BEGIN:VCALENDAR
VERSION:2.0
PRODID:Celebração da Ceia do Senhor
X-WR-CALNAME:Celebração da Ceia do Senhor
X-WR-TIMEZONE:Europe/Lisbon
X-PUBLISHED-TTL:P1W
BEGIN:VTIMEZONE
TZID:Europe/Lisbon
X-LIC-LOCATION:Europe/Lisbon
END:VTIMEZONE
BEGIN:VEVENT
UID:69ebd6fd351fe
DTSTART;VALUE=DATE:20260402
SEQUENCE:0
TRANSP:OPAQUE
DTEND;VALUE=DATE:20260403
SUMMARY:Celebração da Ceia do Senhor
CLASS:PUBLIC
DESCRIPTION:Celebração da Ceia do Senhor\; Mandamento Novo e Dia do Sacer
 dócio seguida de Adoração ao Santíssimo
X-MICROSOFT-CDO-ALLDAYEVENT:TRUE
DTSTAMP:20260424T204757Z
END:VEVENT
END:VCALENDAR