BEGIN:VCALENDAR
VERSION:2.0
PRODID:Presidência Aberta
X-WR-CALNAME:Presidência Aberta
X-WR-TIMEZONE:Europe/Lisbon
X-PUBLISHED-TTL:P1W
BEGIN:VTIMEZONE
TZID:Europe/Lisbon
X-LIC-LOCATION:Europe/Lisbon
END:VTIMEZONE
BEGIN:VEVENT
UID:69ebd6fc0e548
DTSTART;VALUE=DATE:20260402
SEQUENCE:0
TRANSP:OPAQUE
DTEND;VALUE=DATE:20260403
SUMMARY:Presidência Aberta
CLASS:PUBLIC
DESCRIPTION:Presidência Aberta
X-MICROSOFT-CDO-ALLDAYEVENT:TRUE
DTSTAMP:20260424T204756Z
END:VEVENT
END:VCALENDAR