BEGIN:VCALENDAR
VERSION:2.0
PRODID:Carros Clássicos
X-WR-CALNAME:Carros Clássicos
X-WR-TIMEZONE:Europe/Lisbon
X-PUBLISHED-TTL:P1W
BEGIN:VTIMEZONE
TZID:Europe/Lisbon
X-LIC-LOCATION:Europe/Lisbon
END:VTIMEZONE
BEGIN:VEVENT
UID:69e4c178f3aea
DTSTART;VALUE=DATE:20260503
SEQUENCE:0
TRANSP:OPAQUE
DTEND;VALUE=DATE:20260504
SUMMARY:Carros Clássicos
CLASS:PUBLIC
DESCRIPTION:Carros Clássicos- Mini Golfe
X-MICROSOFT-CDO-ALLDAYEVENT:TRUE
DTSTAMP:20260419T115017Z
END:VEVENT
END:VCALENDAR