BEGIN:VCALENDAR
VERSION:2.0
PRODID:Caça ao ovo da Páscoa
X-WR-CALNAME:Caça ao ovo da Páscoa
X-WR-TIMEZONE:Europe/Lisbon
X-PUBLISHED-TTL:P1W
BEGIN:VTIMEZONE
TZID:Europe/Lisbon
X-LIC-LOCATION:Europe/Lisbon
END:VTIMEZONE
BEGIN:VEVENT
UID:69ebd6fc0e68c
DTSTART;VALUE=DATE:20260404
SEQUENCE:0
TRANSP:OPAQUE
DTEND;VALUE=DATE:20260405
SUMMARY:Caça ao ovo da Páscoa
CLASS:PUBLIC
DESCRIPTION:Caça ao ovo da Páscoa. Uma iniciativa da Junta de Freguesia e
  o Pó de Açúcar
X-MICROSOFT-CDO-ALLDAYEVENT:TRUE
DTSTAMP:20260424T204756Z
END:VEVENT
END:VCALENDAR