BEGIN:VCALENDAR
VERSION:2.0
PRODID:Carros Clássicos
X-WR-CALNAME:Carros Clássicos
X-WR-TIMEZONE:Europe/Lisbon
X-PUBLISHED-TTL:P1W
BEGIN:VTIMEZONE
TZID:Europe/Lisbon
X-LIC-LOCATION:Europe/Lisbon
END:VTIMEZONE
BEGIN:VEVENT
UID:69ebd7730db52
DTSTART;VALUE=DATE:20260405
SEQUENCE:0
TRANSP:OPAQUE
DTEND;VALUE=DATE:20260406
SUMMARY:Carros Clássicos
CLASS:PUBLIC
DESCRIPTION:Carros Clássicos no Mini Golfe
X-MICROSOFT-CDO-ALLDAYEVENT:TRUE
DTSTAMP:20260424T204955Z
END:VEVENT
END:VCALENDAR