BEGIN:VCALENDAR
VERSION:2.0
PRODID:Celebração Penitencial para Adultos
X-WR-CALNAME:Celebração Penitencial para Adultos
X-WR-TIMEZONE:Europe/Lisbon
X-PUBLISHED-TTL:P1W
BEGIN:VTIMEZONE
TZID:Europe/Lisbon
X-LIC-LOCATION:Europe/Lisbon
END:VTIMEZONE
BEGIN:VEVENT
UID:69ebd773d8e9c
DTSTART;VALUE=DATE:20260330
SEQUENCE:0
TRANSP:OPAQUE
DTEND;VALUE=DATE:20260331
SUMMARY:Celebração Penitencial para Adultos
CLASS:PUBLIC
DESCRIPTION:Celebração Penitencial para Adultos- Igreja Matriz
X-MICROSOFT-CDO-ALLDAYEVENT:TRUE
DTSTAMP:20260424T204955Z
END:VEVENT
END:VCALENDAR