BEGIN:VCALENDAR
VERSION:2.0
PRODID:Assembleia Extraordinária de Freguesia
X-WR-CALNAME:Assembleia Extraordinária de Freguesia
X-WR-TIMEZONE:Europe/Lisbon
X-PUBLISHED-TTL:P1W
BEGIN:VTIMEZONE
TZID:Europe/Lisbon
X-LIC-LOCATION:Europe/Lisbon
END:VTIMEZONE
BEGIN:VEVENT
UID:69ebd74c219cf
DTSTART;VALUE=DATE:20260330
SEQUENCE:0
TRANSP:OPAQUE
DTEND;VALUE=DATE:20260331
SUMMARY:Assembleia Extraordinária de Freguesia
CLASS:PUBLIC
DESCRIPTION:Assembleia Extraordinária de Freguesia
X-MICROSOFT-CDO-ALLDAYEVENT:TRUE
DTSTAMP:20260424T204916Z
END:VEVENT
END:VCALENDAR