BEGIN:VCALENDAR
VERSION:2.0
PRODID:Exposição de Selos- Bichinho do Selo
X-WR-CALNAME:Exposição de Selos- Bichinho do Selo
X-WR-TIMEZONE:Europe/Lisbon
X-PUBLISHED-TTL:P1W
BEGIN:VTIMEZONE
TZID:Europe/Lisbon
X-LIC-LOCATION:Europe/Lisbon
END:VTIMEZONE
BEGIN:VEVENT
UID:69ebd74a9c534
DTSTART;VALUE=DATE:20260530
SEQUENCE:0
TRANSP:OPAQUE
DTEND;VALUE=DATE:20260531
SUMMARY:Exposição de Selos- Bichinho do Selo
CLASS:PUBLIC
DESCRIPTION:Exposição de Selos- Bichinho do Selo
X-MICROSOFT-CDO-ALLDAYEVENT:TRUE
DTSTAMP:20260424T204914Z
END:VEVENT
END:VCALENDAR