BEGIN:VCALENDAR
VERSION:2.0
PRODID:Ação de Limpeza- Pintura (Amigos Pequeninos de Silves)
X-WR-CALNAME:Ação de Limpeza- Pintura (Amigos Pequeninos de Silves)
X-WR-TIMEZONE:Europe/Lisbon
X-PUBLISHED-TTL:P1W
BEGIN:VTIMEZONE
TZID:Europe/Lisbon
X-LIC-LOCATION:Europe/Lisbon
END:VTIMEZONE
BEGIN:VEVENT
UID:69ebd79b98c96
DTSTART;VALUE=DATE:20260331
SEQUENCE:0
TRANSP:OPAQUE
DTEND;VALUE=DATE:20260401
SUMMARY:Ação de Limpeza- Pintura (Amigos Pequeninos de Silves)
CLASS:PUBLIC
DESCRIPTION:Ação de Limpeza- Pintura (Amigos Pequeninos de Silves)
X-MICROSOFT-CDO-ALLDAYEVENT:TRUE
DTSTAMP:20260424T205035Z
END:VEVENT
END:VCALENDAR